BEGIN:VCALENDAR
VERSION:2.0
PRODID:-//Central Coast Veterans Memorial Museum - ECPv6.15.20//NONSGML v1.0//EN
CALSCALE:GREGORIAN
METHOD:PUBLISH
X-WR-CALNAME:Central Coast Veterans Memorial Museum
X-ORIGINAL-URL:https://vetmuseum.org
X-WR-CALDESC:Events for Central Coast Veterans Memorial Museum
REFRESH-INTERVAL;VALUE=DURATION:PT1H
X-Robots-Tag:noindex
X-PUBLISHED-TTL:PT1H
BEGIN:VTIMEZONE
TZID:America/Los_Angeles
BEGIN:DAYLIGHT
TZOFFSETFROM:-0800
TZOFFSETTO:-0700
TZNAME:PDT
DTSTART:20250309T100000
END:DAYLIGHT
BEGIN:STANDARD
TZOFFSETFROM:-0700
TZOFFSETTO:-0800
TZNAME:PST
DTSTART:20251102T090000
END:STANDARD
BEGIN:DAYLIGHT
TZOFFSETFROM:-0800
TZOFFSETTO:-0700
TZNAME:PDT
DTSTART:20260308T100000
END:DAYLIGHT
BEGIN:STANDARD
TZOFFSETFROM:-0700
TZOFFSETTO:-0800
TZNAME:PST
DTSTART:20261101T090000
END:STANDARD
BEGIN:DAYLIGHT
TZOFFSETFROM:-0800
TZOFFSETTO:-0700
TZNAME:PDT
DTSTART:20270314T100000
END:DAYLIGHT
BEGIN:STANDARD
TZOFFSETFROM:-0700
TZOFFSETTO:-0800
TZNAME:PST
DTSTART:20271107T090000
END:STANDARD
END:VTIMEZONE
BEGIN:VEVENT
DTSTART;VALUE=DATE:20260516
DTEND;VALUE=DATE:20260531
DTSTAMP:20260424T013808
CREATED:20260421T065144Z
LAST-MODIFIED:20260421T065144Z
UID:898-1778889600-1780185599@vetmuseum.org
SUMMARY:Veterans Museum 2026 Fundraiser Auction
DESCRIPTION:
URL:https://vetmuseum.org/event/veterans-museum-2026-fundraiser-auction/
END:VEVENT
BEGIN:VEVENT
DTSTART;TZID=America/Los_Angeles:20260520T160000
DTEND;TZID=America/Los_Angeles:20260520T190000
DTSTAMP:20260424T013808
CREATED:20260421T061000Z
LAST-MODIFIED:20260421T061000Z
UID:892-1779292800-1779303600@vetmuseum.org
SUMMARY:May 20th - SLO Chamber Expo at Madonna Inn
DESCRIPTION:
URL:https://vetmuseum.org/event/may-20th-slo-chamber-expo-at-madonna-inn/
END:VEVENT
BEGIN:VEVENT
DTSTART;TZID=America/Los_Angeles:20260618T163000
DTEND;TZID=America/Los_Angeles:20260618T180000
DTSTAMP:20260424T013808
CREATED:20260421T060827Z
LAST-MODIFIED:20260421T060827Z
UID:890-1781800200-1781805600@vetmuseum.org
SUMMARY:June 18th:  Speaker Series Erik Brun
DESCRIPTION:
URL:https://vetmuseum.org/event/june-18th-speaker-series-erik-brun/
END:VEVENT
BEGIN:VEVENT
DTSTART;TZID=America/Los_Angeles:20260820T163000
DTEND;TZID=America/Los_Angeles:20260820T180000
DTSTAMP:20260424T013808
CREATED:20260224T182438Z
LAST-MODIFIED:20260421T064844Z
UID:848-1787243400-1787248800@vetmuseum.org
SUMMARY:August 20th - Speaker Series:  Stuart McDowell - The Sinking of the SS Montebello
DESCRIPTION:
URL:https://vetmuseum.org/event/august-20th-speaker-series-stuart-mcdowell-when-wwii-came-to-the-central-coast/
END:VEVENT
BEGIN:VEVENT
DTSTART;TZID=America/Los_Angeles:20261015T163000
DTEND;TZID=America/Los_Angeles:20261015T180000
DTSTAMP:20260424T013808
CREATED:20260224T182603Z
LAST-MODIFIED:20260421T064117Z
UID:850-1792081800-1792087200@vetmuseum.org
SUMMARY:October 15th - Speaker Series:  David Blakely - Masters of the Air
DESCRIPTION:
URL:https://vetmuseum.org/event/october-15th-speaker-series-david-blakely/
END:VEVENT
END:VCALENDAR